BEGIN:VCALENDAR
VERSION:2.0
PRODID:-//Town of Hammonton - ECPv6.11.2//NONSGML v1.0//EN
CALSCALE:GREGORIAN
METHOD:PUBLISH
X-WR-CALNAME:Town of Hammonton
X-ORIGINAL-URL:https://www.townofhammonton.org
X-WR-CALDESC:Events for Town of Hammonton
REFRESH-INTERVAL;VALUE=DURATION:PT1H
X-Robots-Tag:noindex
X-PUBLISHED-TTL:PT1H
BEGIN:VTIMEZONE
TZID:America/New_York
BEGIN:DAYLIGHT
TZOFFSETFROM:-0500
TZOFFSETTO:-0400
TZNAME:EDT
DTSTART:20250309T070000
END:DAYLIGHT
BEGIN:STANDARD
TZOFFSETFROM:-0400
TZOFFSETTO:-0500
TZNAME:EST
DTSTART:20251102T060000
END:STANDARD
END:VTIMEZONE
BEGIN:VEVENT
DTSTART;TZID=America/New_York:20250806T180000
DTEND;TZID=America/New_York:20250806T190000
DTSTAMP:20260421T195705
CREATED:20250729T213439Z
LAST-MODIFIED:20250729T213933Z
UID:10003199-1754503200-1754506800@www.townofhammonton.org
SUMMARY:Hammonton Football: Free Blue Devils Youth Football Camp
DESCRIPTION:Students entering grades 1-8 are invited to attend the Hammonton Blue Devils Youth Football Camp on: \nTuesday\, August 5th from 6-7pm\nWednesday\, August 6th from 6-7pm \nWilliam T. Cappella Memorial Field (Hammonton Middle School) \nThere is no cost to attend. Players will receive a t-shirt and asked to bring a water bottle and cleats. This is a hands-on football camp designed for young athletes to learn the fundamentals of the game. \n\nOpen to football players of all skill levels\nRun by high school coaches & players\nFocus on teamwork\, skills\, and fun\n\nDon’t miss this opportunity to build confidence\, make friends\, and fall in love with the game!
URL:https://www.townofhammonton.org/event/hammonton-football-free-blue-devils-youth-football-camp/2025-08-06/
LOCATION:William T. Cappella Memorial Field\, 100 Linda Ave.\, Hammonton\, NJ\, 08037\, United States
CATEGORIES:Event
END:VEVENT
BEGIN:VEVENT
DTSTART;TZID=America/New_York:20250805T180000
DTEND;TZID=America/New_York:20250805T190000
DTSTAMP:20260421T195705
CREATED:20250729T213439Z
LAST-MODIFIED:20250729T213933Z
UID:10003198-1754416800-1754420400@www.townofhammonton.org
SUMMARY:Hammonton Football: Free Blue Devils Youth Football Camp
DESCRIPTION:Students entering grades 1-8 are invited to attend the Hammonton Blue Devils Youth Football Camp on: \nTuesday\, August 5th from 6-7pm\nWednesday\, August 6th from 6-7pm \nWilliam T. Cappella Memorial Field (Hammonton Middle School) \nThere is no cost to attend. Players will receive a t-shirt and asked to bring a water bottle and cleats. This is a hands-on football camp designed for young athletes to learn the fundamentals of the game. \n\nOpen to football players of all skill levels\nRun by high school coaches & players\nFocus on teamwork\, skills\, and fun\n\nDon’t miss this opportunity to build confidence\, make friends\, and fall in love with the game!
URL:https://www.townofhammonton.org/event/hammonton-football-free-blue-devils-youth-football-camp/2025-08-05/
LOCATION:William T. Cappella Memorial Field\, 100 Linda Ave.\, Hammonton\, NJ\, 08037\, United States
CATEGORIES:Event
END:VEVENT
END:VCALENDAR