BEGIN:VCALENDAR
VERSION:2.0
PRODID:-//Town of Hammonton - ECPv6.11.2//NONSGML v1.0//EN
CALSCALE:GREGORIAN
METHOD:PUBLISH
X-WR-CALNAME:Town of Hammonton
X-ORIGINAL-URL:https://www.townofhammonton.org
X-WR-CALDESC:Events for Town of Hammonton
REFRESH-INTERVAL;VALUE=DURATION:PT1H
X-Robots-Tag:noindex
X-PUBLISHED-TTL:PT1H
BEGIN:VTIMEZONE
TZID:America/New_York
BEGIN:DAYLIGHT
TZOFFSETFROM:-0500
TZOFFSETTO:-0400
TZNAME:EDT
DTSTART:20300310T070000
END:DAYLIGHT
BEGIN:STANDARD
TZOFFSETFROM:-0400
TZOFFSETTO:-0500
TZNAME:EST
DTSTART:20301103T060000
END:STANDARD
BEGIN:DAYLIGHT
TZOFFSETFROM:-0500
TZOFFSETTO:-0400
TZNAME:EDT
DTSTART:20310309T070000
END:DAYLIGHT
BEGIN:STANDARD
TZOFFSETFROM:-0400
TZOFFSETTO:-0500
TZNAME:EST
DTSTART:20311102T060000
END:STANDARD
END:VTIMEZONE
BEGIN:VEVENT
DTSTART;TZID=America/New_York:20300515T100000
DTEND;TZID=America/New_York:20300515T120000
DTSTAMP:20260421T174138
CREATED:20250530T164319Z
LAST-MODIFIED:20260214T130703Z
UID:10003120-1905069600-1905076800@www.townofhammonton.org
SUMMARY:Looking for assistance? JFS Family Service Sprinter Van
DESCRIPTION:Community Connections: Hammonton \nIn partnership with Red Cross\, the JFS Sprinter Van will be onsite in Hammonton to provide information about services offered. The JFS Atlantic Homeless Alliance (AHA) assists individuals and families affected or at risk of homelessness in Atlantic County. Jewish Family Service of Atlantic & Cape May Counties \nIf you are looking for assistance – counseling\, mental health services\, supportive housing and more – plan to stop by and speak with a JFS staff member. \nWHEN: \nEvery First & Third Wednesday Following (10am-12pm) \nWHERE: \nHammonton Family Success Center\n310 Bellevue Avenue\, Hammonton NJ \nFor information about JFS Services visit www.jfsatlantic.org
URL:https://www.townofhammonton.org/event/hammonton-outreach-jfs-sprinter-van-2/2030-05-15/
LOCATION:Hammonton Family Success Center\, 310 Bellevue Ave\, Hammonton\, NJ\, 08037\, United States
CATEGORIES:Event
END:VEVENT
BEGIN:VEVENT
DTSTART;TZID=America/New_York:20300619T100000
DTEND;TZID=America/New_York:20300619T120000
DTSTAMP:20260421T174138
CREATED:20250530T164319Z
LAST-MODIFIED:20260214T130703Z
UID:10004102-1908093600-1908100800@www.townofhammonton.org
SUMMARY:Looking for assistance? JFS Family Service Sprinter Van
DESCRIPTION:Community Connections: Hammonton \nIn partnership with Red Cross\, the JFS Sprinter Van will be onsite in Hammonton to provide information about services offered. The JFS Atlantic Homeless Alliance (AHA) assists individuals and families affected or at risk of homelessness in Atlantic County. Jewish Family Service of Atlantic & Cape May Counties \nIf you are looking for assistance – counseling\, mental health services\, supportive housing and more – plan to stop by and speak with a JFS staff member. \nWHEN: \nEvery First & Third Wednesday Following (10am-12pm) \nWHERE: \nHammonton Family Success Center\n310 Bellevue Avenue\, Hammonton NJ \nFor information about JFS Services visit www.jfsatlantic.org
URL:https://www.townofhammonton.org/event/hammonton-outreach-jfs-sprinter-van-2/2030-06-19/
LOCATION:Hammonton Family Success Center\, 310 Bellevue Ave\, Hammonton\, NJ\, 08037\, United States
CATEGORIES:Event
END:VEVENT
BEGIN:VEVENT
DTSTART;TZID=America/New_York:20300717T100000
DTEND;TZID=America/New_York:20300717T120000
DTSTAMP:20260421T174138
CREATED:20250530T164319Z
LAST-MODIFIED:20260214T130703Z
UID:10004103-1910512800-1910520000@www.townofhammonton.org
SUMMARY:Looking for assistance? JFS Family Service Sprinter Van
DESCRIPTION:Community Connections: Hammonton \nIn partnership with Red Cross\, the JFS Sprinter Van will be onsite in Hammonton to provide information about services offered. The JFS Atlantic Homeless Alliance (AHA) assists individuals and families affected or at risk of homelessness in Atlantic County. Jewish Family Service of Atlantic & Cape May Counties \nIf you are looking for assistance – counseling\, mental health services\, supportive housing and more – plan to stop by and speak with a JFS staff member. \nWHEN: \nEvery First & Third Wednesday Following (10am-12pm) \nWHERE: \nHammonton Family Success Center\n310 Bellevue Avenue\, Hammonton NJ \nFor information about JFS Services visit www.jfsatlantic.org
URL:https://www.townofhammonton.org/event/hammonton-outreach-jfs-sprinter-van-2/2030-07-17/
LOCATION:Hammonton Family Success Center\, 310 Bellevue Ave\, Hammonton\, NJ\, 08037\, United States
CATEGORIES:Event
END:VEVENT
BEGIN:VEVENT
DTSTART;TZID=America/New_York:20300821T100000
DTEND;TZID=America/New_York:20300821T120000
DTSTAMP:20260421T174138
CREATED:20250530T164319Z
LAST-MODIFIED:20260214T130703Z
UID:10004104-1913536800-1913544000@www.townofhammonton.org
SUMMARY:Looking for assistance? JFS Family Service Sprinter Van
DESCRIPTION:Community Connections: Hammonton \nIn partnership with Red Cross\, the JFS Sprinter Van will be onsite in Hammonton to provide information about services offered. The JFS Atlantic Homeless Alliance (AHA) assists individuals and families affected or at risk of homelessness in Atlantic County. Jewish Family Service of Atlantic & Cape May Counties \nIf you are looking for assistance – counseling\, mental health services\, supportive housing and more – plan to stop by and speak with a JFS staff member. \nWHEN: \nEvery First & Third Wednesday Following (10am-12pm) \nWHERE: \nHammonton Family Success Center\n310 Bellevue Avenue\, Hammonton NJ \nFor information about JFS Services visit www.jfsatlantic.org
URL:https://www.townofhammonton.org/event/hammonton-outreach-jfs-sprinter-van-2/2030-08-21/
LOCATION:Hammonton Family Success Center\, 310 Bellevue Ave\, Hammonton\, NJ\, 08037\, United States
CATEGORIES:Event
END:VEVENT
BEGIN:VEVENT
DTSTART;TZID=America/New_York:20300918T100000
DTEND;TZID=America/New_York:20300918T120000
DTSTAMP:20260421T174138
CREATED:20250530T164319Z
LAST-MODIFIED:20260214T130703Z
UID:10004105-1915956000-1915963200@www.townofhammonton.org
SUMMARY:Looking for assistance? JFS Family Service Sprinter Van
DESCRIPTION:Community Connections: Hammonton \nIn partnership with Red Cross\, the JFS Sprinter Van will be onsite in Hammonton to provide information about services offered. The JFS Atlantic Homeless Alliance (AHA) assists individuals and families affected or at risk of homelessness in Atlantic County. Jewish Family Service of Atlantic & Cape May Counties \nIf you are looking for assistance – counseling\, mental health services\, supportive housing and more – plan to stop by and speak with a JFS staff member. \nWHEN: \nEvery First & Third Wednesday Following (10am-12pm) \nWHERE: \nHammonton Family Success Center\n310 Bellevue Avenue\, Hammonton NJ \nFor information about JFS Services visit www.jfsatlantic.org
URL:https://www.townofhammonton.org/event/hammonton-outreach-jfs-sprinter-van-2/2030-09-18/
LOCATION:Hammonton Family Success Center\, 310 Bellevue Ave\, Hammonton\, NJ\, 08037\, United States
CATEGORIES:Event
END:VEVENT
BEGIN:VEVENT
DTSTART;TZID=America/New_York:20301016T100000
DTEND;TZID=America/New_York:20301016T120000
DTSTAMP:20260421T174138
CREATED:20250530T164319Z
LAST-MODIFIED:20260214T130703Z
UID:10004620-1918375200-1918382400@www.townofhammonton.org
SUMMARY:Looking for assistance? JFS Family Service Sprinter Van
DESCRIPTION:Community Connections: Hammonton \nIn partnership with Red Cross\, the JFS Sprinter Van will be onsite in Hammonton to provide information about services offered. The JFS Atlantic Homeless Alliance (AHA) assists individuals and families affected or at risk of homelessness in Atlantic County. Jewish Family Service of Atlantic & Cape May Counties \nIf you are looking for assistance – counseling\, mental health services\, supportive housing and more – plan to stop by and speak with a JFS staff member. \nWHEN: \nEvery First & Third Wednesday Following (10am-12pm) \nWHERE: \nHammonton Family Success Center\n310 Bellevue Avenue\, Hammonton NJ \nFor information about JFS Services visit www.jfsatlantic.org
URL:https://www.townofhammonton.org/event/hammonton-outreach-jfs-sprinter-van-2/2030-10-16/
LOCATION:Hammonton Family Success Center\, 310 Bellevue Ave\, Hammonton\, NJ\, 08037\, United States
CATEGORIES:Event
END:VEVENT
BEGIN:VEVENT
DTSTART;TZID=America/New_York:20301120T100000
DTEND;TZID=America/New_York:20301120T120000
DTSTAMP:20260421T174138
CREATED:20250530T164319Z
LAST-MODIFIED:20260214T130703Z
UID:10004621-1921399200-1921406400@www.townofhammonton.org
SUMMARY:Looking for assistance? JFS Family Service Sprinter Van
DESCRIPTION:Community Connections: Hammonton \nIn partnership with Red Cross\, the JFS Sprinter Van will be onsite in Hammonton to provide information about services offered. The JFS Atlantic Homeless Alliance (AHA) assists individuals and families affected or at risk of homelessness in Atlantic County. Jewish Family Service of Atlantic & Cape May Counties \nIf you are looking for assistance – counseling\, mental health services\, supportive housing and more – plan to stop by and speak with a JFS staff member. \nWHEN: \nEvery First & Third Wednesday Following (10am-12pm) \nWHERE: \nHammonton Family Success Center\n310 Bellevue Avenue\, Hammonton NJ \nFor information about JFS Services visit www.jfsatlantic.org
URL:https://www.townofhammonton.org/event/hammonton-outreach-jfs-sprinter-van-2/2030-11-20/
LOCATION:Hammonton Family Success Center\, 310 Bellevue Ave\, Hammonton\, NJ\, 08037\, United States
CATEGORIES:Event
END:VEVENT
BEGIN:VEVENT
DTSTART;TZID=America/New_York:20301218T100000
DTEND;TZID=America/New_York:20301218T120000
DTSTAMP:20260421T174138
CREATED:20250530T164319Z
LAST-MODIFIED:20260214T130703Z
UID:10004622-1923818400-1923825600@www.townofhammonton.org
SUMMARY:Looking for assistance? JFS Family Service Sprinter Van
DESCRIPTION:Community Connections: Hammonton \nIn partnership with Red Cross\, the JFS Sprinter Van will be onsite in Hammonton to provide information about services offered. The JFS Atlantic Homeless Alliance (AHA) assists individuals and families affected or at risk of homelessness in Atlantic County. Jewish Family Service of Atlantic & Cape May Counties \nIf you are looking for assistance – counseling\, mental health services\, supportive housing and more – plan to stop by and speak with a JFS staff member. \nWHEN: \nEvery First & Third Wednesday Following (10am-12pm) \nWHERE: \nHammonton Family Success Center\n310 Bellevue Avenue\, Hammonton NJ \nFor information about JFS Services visit www.jfsatlantic.org
URL:https://www.townofhammonton.org/event/hammonton-outreach-jfs-sprinter-van-2/2030-12-18/
LOCATION:Hammonton Family Success Center\, 310 Bellevue Ave\, Hammonton\, NJ\, 08037\, United States
CATEGORIES:Event
END:VEVENT
BEGIN:VEVENT
DTSTART;TZID=America/New_York:20310115T100000
DTEND;TZID=America/New_York:20310115T120000
DTSTAMP:20260421T174138
CREATED:20250530T164319Z
LAST-MODIFIED:20260214T130703Z
UID:10004623-1926237600-1926244800@www.townofhammonton.org
SUMMARY:Looking for assistance? JFS Family Service Sprinter Van
DESCRIPTION:Community Connections: Hammonton \nIn partnership with Red Cross\, the JFS Sprinter Van will be onsite in Hammonton to provide information about services offered. The JFS Atlantic Homeless Alliance (AHA) assists individuals and families affected or at risk of homelessness in Atlantic County. Jewish Family Service of Atlantic & Cape May Counties \nIf you are looking for assistance – counseling\, mental health services\, supportive housing and more – plan to stop by and speak with a JFS staff member. \nWHEN: \nEvery First & Third Wednesday Following (10am-12pm) \nWHERE: \nHammonton Family Success Center\n310 Bellevue Avenue\, Hammonton NJ \nFor information about JFS Services visit www.jfsatlantic.org
URL:https://www.townofhammonton.org/event/hammonton-outreach-jfs-sprinter-van-2/2031-01-15/
LOCATION:Hammonton Family Success Center\, 310 Bellevue Ave\, Hammonton\, NJ\, 08037\, United States
CATEGORIES:Event
END:VEVENT
END:VCALENDAR