BEGIN:VCALENDAR
VERSION:2.0
PRODID:-//Town of Hammonton - ECPv6.11.2//NONSGML v1.0//EN
CALSCALE:GREGORIAN
METHOD:PUBLISH
X-WR-CALNAME:Town of Hammonton
X-ORIGINAL-URL:https://www.townofhammonton.org
X-WR-CALDESC:Events for Town of Hammonton
REFRESH-INTERVAL;VALUE=DURATION:PT1H
X-Robots-Tag:noindex
X-PUBLISHED-TTL:PT1H
BEGIN:VTIMEZONE
TZID:America/New_York
BEGIN:DAYLIGHT
TZOFFSETFROM:-0500
TZOFFSETTO:-0400
TZNAME:EDT
DTSTART:20250309T070000
END:DAYLIGHT
BEGIN:STANDARD
TZOFFSETFROM:-0400
TZOFFSETTO:-0500
TZNAME:EST
DTSTART:20251102T060000
END:STANDARD
END:VTIMEZONE
BEGIN:VEVENT
DTSTART;TZID=America/New_York:20251009T000000
DTEND;TZID=America/New_York:20251012T000000
DTSTAMP:20260421T122511
CREATED:20251001T145937Z
LAST-MODIFIED:20251001T145937Z
UID:10004093-1759968000-1760227200@www.townofhammonton.org
SUMMARY:St Mary of Mount Carmel Parish Carnival & Fall Festival
DESCRIPTION:St Mary of Mount Carmel Parish Carnival & Fall Festival 2025\nFall Festival returns Thursday\, October 9th through Sunday\, October 12th – St. Anthony Picnic Grounds. \n\nThrilling rides.\nShow-stopping bands.\nCan’t miss foods.\nWine/Beer Garden\nFall Festival Sunday events.\nFour days. Nonstop action. Be there!\n\n285 Route 206\, Hammonton\, NJ
URL:https://www.townofhammonton.org/event/st-mary-of-mount-carmel-parish-carnival-fall-festival/
LOCATION:St Mary of Mount Carmel Parish\, 285 Route 206\, Hammonton\, 08037\, United States
CATEGORIES:Event
END:VEVENT
END:VCALENDAR