BEGIN:VCALENDAR
VERSION:2.0
PRODID:-//Town of Hammonton - ECPv6.11.2//NONSGML v1.0//EN
CALSCALE:GREGORIAN
METHOD:PUBLISH
X-ORIGINAL-URL:https://www.townofhammonton.org
X-WR-CALDESC:Events for Town of Hammonton
REFRESH-INTERVAL;VALUE=DURATION:PT1H
X-Robots-Tag:noindex
X-PUBLISHED-TTL:PT1H
BEGIN:VTIMEZONE
TZID:America/New_York
BEGIN:DAYLIGHT
TZOFFSETFROM:-0500
TZOFFSETTO:-0400
TZNAME:EDT
DTSTART:20230312T070000
END:DAYLIGHT
BEGIN:STANDARD
TZOFFSETFROM:-0400
TZOFFSETTO:-0500
TZNAME:EST
DTSTART:20231105T060000
END:STANDARD
BEGIN:DAYLIGHT
TZOFFSETFROM:-0500
TZOFFSETTO:-0400
TZNAME:EDT
DTSTART:20240310T070000
END:DAYLIGHT
BEGIN:STANDARD
TZOFFSETFROM:-0400
TZOFFSETTO:-0500
TZNAME:EST
DTSTART:20241103T060000
END:STANDARD
BEGIN:DAYLIGHT
TZOFFSETFROM:-0500
TZOFFSETTO:-0400
TZNAME:EDT
DTSTART:20250309T070000
END:DAYLIGHT
BEGIN:STANDARD
TZOFFSETFROM:-0400
TZOFFSETTO:-0500
TZNAME:EST
DTSTART:20251102T060000
END:STANDARD
END:VTIMEZONE
BEGIN:VEVENT
DTSTART;TZID=America/New_York:20250426T100000
DTEND;TZID=America/New_York:20250426T140000
DTSTAMP:20260421T092151
CREATED:20250424T122318Z
LAST-MODIFIED:20250424T122318Z
UID:10002984-1745661600-1745676000@www.townofhammonton.org
SUMMARY:Hammonton PD • Rx Take Back Day
DESCRIPTION:The Hammonton Police Department will be hosting a Rx Take Back Day on Saturday\, April 26th\, 2025 from 10 a.m to 2 p.m.Residents will have the opportunity to safely dispose of medications they have on hand that are expired\, unused or unnecessary at the Hammonton Police Department\, located at 100 Central Ave.Unused or expired medications sitting around the house can easily become dangerous — especially in homes with young children\, teenagers or elderly family members. It’s crucial to take action and remove those risks. \nMedications can be a source of accidental poisoning for kids or a temptation for teens experimenting with drugs. Adults and seniors also face the danger of confusing medications or taking ones that are no longer necessary.
URL:https://www.townofhammonton.org/event/hammonton-pd-rx-take-back-day/
LOCATION:Hammonton Town Hall
CATEGORIES:Event,Police Department
END:VEVENT
BEGIN:VEVENT
DTSTART;TZID=America/New_York:20250210T100000
DTEND;TZID=America/New_York:20250210T140000
DTSTAMP:20260421T092151
CREATED:20250207T220659Z
LAST-MODIFIED:20250207T220955Z
UID:10002201-1739181600-1739196000@www.townofhammonton.org
SUMMARY:Hammonton Police Department Rx Take Back Day
DESCRIPTION:The Hammonton Police Department will be hosting a Rx Take Back Day on Monday\, Feb. 10th\, 2025 from 10 a.m to 2 p.m.\n\nResidents will have the opportunity to safely dispose of medications they have on hand that are expired\, unused or unnecessary at the Hammonton Police Department\, located at 100 Central Ave.\n\n\nUnused or expired medications sitting around the house can easily become dangerous — especially in homes with young children\, teenagers or elderly family members. It’s crucial to take action and remove those risks. Medications can be a source of accidental poisoning for kids or a temptation for teens experimenting with drugs. Adults and seniors also face the danger of confusing medications or taking ones that are no longer necessary.
URL:https://www.townofhammonton.org/event/hammonton-police-department-rx-take-back-day/
LOCATION:Hammonton Town Hall
CATEGORIES:Police Department
END:VEVENT
BEGIN:VEVENT
DTSTART;TZID=America/New_York:20241221T080000
DTEND;TZID=America/New_York:20241221T170000
DTSTAMP:20260421T092151
CREATED:20241128T020614Z
LAST-MODIFIED:20241128T020614Z
UID:10002040-1734768000-1734800400@www.townofhammonton.org
SUMMARY:Hammonton Police Toy & Food Drive
DESCRIPTION:Please consider donating to the Hammonton Police Department Toy and Food Drive.\n\n\nAccepting canned goods and dry food in the Police Dept. lobby at Town Hall\, 24 hours a day\, until noon on Saturday\, Nov. 30th.\n\n\nAccepting new unwrapped Christmas gifts outside the Hammonton Walmart on Dec. 7th\, 14th and 21st.\n\n\nAll food and toy donations will be distributed in the Hammonton area.
URL:https://www.townofhammonton.org/event/hammonton-police-toy-food-drive/2024-12-21/
LOCATION:Hammonton Walmart\, 55 S White Horse Pike\, Hammonton\, 08037\, United States
CATEGORIES:Event
END:VEVENT
BEGIN:VEVENT
DTSTART;TZID=America/New_York:20241214T080000
DTEND;TZID=America/New_York:20241214T170000
DTSTAMP:20260421T092151
CREATED:20241128T020614Z
LAST-MODIFIED:20241128T020614Z
UID:10002039-1734163200-1734195600@www.townofhammonton.org
SUMMARY:Hammonton Police Toy & Food Drive
DESCRIPTION:Please consider donating to the Hammonton Police Department Toy and Food Drive.\n\n\nAccepting canned goods and dry food in the Police Dept. lobby at Town Hall\, 24 hours a day\, until noon on Saturday\, Nov. 30th.\n\n\nAccepting new unwrapped Christmas gifts outside the Hammonton Walmart on Dec. 7th\, 14th and 21st.\n\n\nAll food and toy donations will be distributed in the Hammonton area.
URL:https://www.townofhammonton.org/event/hammonton-police-toy-food-drive/2024-12-14/
LOCATION:Hammonton Walmart\, 55 S White Horse Pike\, Hammonton\, 08037\, United States
CATEGORIES:Event
END:VEVENT
BEGIN:VEVENT
DTSTART;TZID=America/New_York:20241207T080000
DTEND;TZID=America/New_York:20241207T170000
DTSTAMP:20260421T092151
CREATED:20241128T020614Z
LAST-MODIFIED:20241128T020614Z
UID:10002038-1733558400-1733590800@www.townofhammonton.org
SUMMARY:Hammonton Police Toy & Food Drive
DESCRIPTION:Please consider donating to the Hammonton Police Department Toy and Food Drive.\n\n\nAccepting canned goods and dry food in the Police Dept. lobby at Town Hall\, 24 hours a day\, until noon on Saturday\, Nov. 30th.\n\n\nAccepting new unwrapped Christmas gifts outside the Hammonton Walmart on Dec. 7th\, 14th and 21st.\n\n\nAll food and toy donations will be distributed in the Hammonton area.
URL:https://www.townofhammonton.org/event/hammonton-police-toy-food-drive/2024-12-07/
LOCATION:Hammonton Walmart\, 55 S White Horse Pike\, Hammonton\, 08037\, United States
CATEGORIES:Event
END:VEVENT
BEGIN:VEVENT
DTSTART;TZID=America/New_York:20240816T180000
DTEND;TZID=America/New_York:20240816T210000
DTSTAMP:20260421T092151
CREATED:20240708T142404Z
LAST-MODIFIED:20240708T155339Z
UID:10001833-1723831200-1723842000@www.townofhammonton.org
SUMMARY:11th Annual National Night Out
DESCRIPTION:Hammonton’s 11th annual National Night Out\nFriday\, August 16 from 6 p.m. to 9 p.m.\nHammonton High School\n566 Olds Forks Road\, Hammonton\, NJ
URL:https://www.townofhammonton.org/event/11th-annual-national-night-out/
LOCATION:Hammonton High School\, 566 Old Forks Road\, Hammonton\, NJ\, 08037\, United States
CATEGORIES:Event
END:VEVENT
BEGIN:VEVENT
DTSTART;TZID=America/New_York:20240427T093000
DTEND;TZID=America/New_York:20240427T093000
DTSTAMP:20260421T092151
CREATED:20240415T014838Z
LAST-MODIFIED:20240415T022958Z
UID:10001641-1714210200-1714210200@www.townofhammonton.org
SUMMARY:Seany Shoe Hands 5K and 1 Mile Hero Walk for Autism
DESCRIPTION:Get ready to lace up for a cause that will warm your heart and boost your spirits! The Seany Shoe Hands 5K and the 1 Mile Hero Walk for Autism are calling all superheroes to join us on Saturday\, April 27\, 2024\, starting at 10:30 am sharp (be there at 9:30 am for registration). \nLocation: Hammonton Lake Park\, 100 Sports Drive\, Hammonton\, NJ 08037\n$25 entry fee at https://www.tnteventmanagement.com/ \nHosted by the Hammonton Police Department\, this day is more than just a race; it’s an opportunity to step up for an extraordinary cause. We’re talking sweat\, fun\, and making a difference\, all rolled into one exhilarating morning! Every stride you take helps The Arc Gloucester Camp Sun ‘N Fun support children with autism and cognitive disabilities. Run…Walk…Be Heroic!
URL:https://www.townofhammonton.org/event/seany-shoe-hands-5k-and-1-mile-hero-walk-for-autism/
LOCATION:Hammonton Lake Park\, 100 Sports Drive\, Hammonton\, NJ\, 08037\, United States
CATEGORIES:Event,Police Department
END:VEVENT
BEGIN:VEVENT
DTSTART;TZID=America/New_York:20231028T100000
DTEND;TZID=America/New_York:20231028T140000
DTSTAMP:20260421T092151
CREATED:20231017T203852Z
LAST-MODIFIED:20231017T203852Z
UID:10001605-1698487200-1698501600@www.townofhammonton.org
SUMMARY:DEA National Rx Takeback Day
DESCRIPTION:
URL:https://www.townofhammonton.org/event/dea-national-rx-takeback-day/
LOCATION:Hammonton Town Hall
END:VEVENT
BEGIN:VEVENT
DTSTART;TZID=America/New_York:20230804T180000
DTEND;TZID=America/New_York:20230804T213000
DTSTAMP:20260421T092151
CREATED:20230726T160739Z
LAST-MODIFIED:20230726T160739Z
UID:10001468-1691172000-1691184600@www.townofhammonton.org
SUMMARY:Hammonton National Night Out and 5K Run
DESCRIPTION:RAIN DATE IS SATURDAY\, AUGUST 5TH
URL:https://www.townofhammonton.org/event/hammonton-national-night-out-and-5k-run/
LOCATION:Hammonton High School\, 566 Old Forks Road\, Hammonton\, NJ\, 08037\, United States
END:VEVENT
BEGIN:VEVENT
DTSTART;TZID=America/New_York:20230430T093000
DTEND;TZID=America/New_York:20230430T123000
DTSTAMP:20260421T092151
CREATED:20230310T191034Z
LAST-MODIFIED:20230417T200435Z
UID:10001407-1682847000-1682857800@www.townofhammonton.org
SUMMARY:Seany Shoe Hands 5K and 1 Mile Hero Walk for Autism
DESCRIPTION:Run Signup Link
URL:https://www.townofhammonton.org/event/5k-for-autism/
LOCATION:Hammonton Lake Park\, 100 Sports Drive\, Hammonton\, NJ\, 08037\, United States
CATEGORIES:Police Department
END:VEVENT
END:VCALENDAR